BEGIN:VCALENDAR
PRODID:-//eluceo/ical//2.0/EN
VERSION:2.0
CALSCALE:GREGORIAN
BEGIN:VEVENT
UID:972da194646de854118f4135c7f5adf2
DTSTAMP:20260423T044010Z
SUMMARY:JCMI Mah Jongg
DESCRIPTION:Jewish Federation of Greater Naples\nCommunity Calendar\nhttps:
 //jewishnaples.org/calendar/calendar2099\n\n&nbsp
DTSTART;TZID=America/New_York:20150625T110000
DTEND;TZID=America/New_York:20150625T110000
END:VEVENT
END:VCALENDAR
