BEGIN:VCALENDAR
PRODID:-//eluceo/ical//2.0/EN
VERSION:2.0
CALSCALE:GREGORIAN
BEGIN:VEVENT
UID:25c9e182a6f898d8a77546c408f92b60
DTSTAMP:20260422T113822Z
SUMMARY:JCMI Bridge
DESCRIPTION:Jewish Federation of Greater Naples\nCommunity Calendar\nhttps:
 //jewishnaples.org/calendar/calendar2093\n\n&nbsp
DTSTART;TZID=America/New_York:20150610T130000
DTEND;TZID=America/New_York:20150610T130000
END:VEVENT
END:VCALENDAR
