BEGIN:VCALENDAR
PRODID:-//eluceo/ical//2.0/EN
VERSION:2.0
CALSCALE:GREGORIAN
BEGIN:VEVENT
UID:506164e6de3109bd9ef5b046f5b717cb
DTSTAMP:20260423T061904Z
SUMMARY:HM Exec Cmte Mtg
DESCRIPTION:Jewish Federation of Greater Naples\nCommunity Calendar\nhttps:
 //jewishnaples.org/calendar/calendar2084\n\n&nbsp
DTSTART;TZID=America/New_York:20150514T150000
DTEND;TZID=America/New_York:20150514T150000
END:VEVENT
END:VCALENDAR
