BEGIN:VCALENDAR
PRODID:-//eluceo/ical//2.0/EN
VERSION:2.0
CALSCALE:GREGORIAN
BEGIN:VEVENT
UID:12114d604578235ba0fbe3cff6587c22
DTSTAMP:20260423T014325Z
SUMMARY:HM Board Mtg
DESCRIPTION:Jewish Federation of Greater Naples\nCommunity Calendar\nhttps:
 //jewishnaples.org/calendar/calendar2082\n\n&nbsp
DTSTART;TZID=America/New_York:20150528T150000
DTEND;TZID=America/New_York:20150528T150000
END:VEVENT
END:VCALENDAR
