BEGIN:VCALENDAR
PRODID:-//eluceo/ical//2.0/EN
VERSION:2.0
CALSCALE:GREGORIAN
BEGIN:VEVENT
UID:8f8bb3181f1a63adee5cd76f0475232c
DTSTAMP:20260424T061858Z
SUMMARY:HM Board Mtg
DESCRIPTION:Jewish Federation of Greater Naples\nCommunity Calendar\nhttps:
 //jewishnaples.org/calendar/calendar2081\n\n&nbsp
DTSTART;TZID=America/New_York:20150625T150000
DTEND;TZID=America/New_York:20150625T150000
END:VEVENT
END:VCALENDAR
