BEGIN:VCALENDAR
PRODID:-//eluceo/ical//2.0/EN
VERSION:2.0
CALSCALE:GREGORIAN
BEGIN:VEVENT
UID:d1709725109b82b7dfc81398df10a998
DTSTAMP:20260420T161739Z
SUMMARY:HJH Comm. Mtg
DESCRIPTION:Jewish Federation of Greater Naples\nCommunity Calendar\nhttps:
 //jewishnaples.org/calendar/calendar2080\n\n&nbsp
DTSTART;TZID=America/New_York:20150510T140000
DTEND;TZID=America/New_York:20150510T140000
END:VEVENT
END:VCALENDAR
