BEGIN:VCALENDAR
PRODID:-//eluceo/ical//2.0/EN
VERSION:2.0
CALSCALE:GREGORIAN
BEGIN:VEVENT
UID:580ff7d1dc26a3fd43f671902d32918f
DTSTAMP:20260423T192052Z
SUMMARY:CHA Yizkor
DESCRIPTION:Jewish Federation of Greater Naples\nCommunity Calendar\nhttps:
 //jewishnaples.org/calendar/calendar2071\n\n&nbsp
DTSTART;TZID=America/New_York:20150525T130000
DTEND;TZID=America/New_York:20150525T130000
END:VEVENT
END:VCALENDAR
