BEGIN:VCALENDAR
PRODID:-//eluceo/ical//2.0/EN
VERSION:2.0
CALSCALE:GREGORIAN
BEGIN:VEVENT
UID:f2d7ded08a8b4948d6947ff5899504d0
DTSTAMP:20260423T062333Z
SUMMARY:CHA Women's Circle
DESCRIPTION:Jewish Federation of Greater Naples\nCommunity Calendar\nhttps:
 //jewishnaples.org/calendar/calendar2070\n\n&nbsp
DTSTART;TZID=America/New_York:20150514T110000
DTEND;TZID=America/New_York:20150514T110000
END:VEVENT
END:VCALENDAR
