BEGIN:VCALENDAR
PRODID:-//eluceo/ical//2.0/EN
VERSION:2.0
CALSCALE:GREGORIAN
BEGIN:VEVENT
UID:7ad360e8b6c682fa78bac85bbf093f46
DTSTAMP:20260420T062956Z
SUMMARY:BT Services
DESCRIPTION:Jewish Federation of Greater Naples\nCommunity Calendar\nhttps:
 //jewishnaples.org/calendar/calendar207\n\nPurim
DTSTART;TZID=America/New_York:20150305T093000
DTEND;TZID=America/New_York:20150305T093000
END:VEVENT
END:VCALENDAR
