BEGIN:VCALENDAR
PRODID:-//eluceo/ical//2.0/EN
VERSION:2.0
CALSCALE:GREGORIAN
BEGIN:VEVENT
UID:129525b315f8498385d4f437e1667928
DTSTAMP:20260421T190110Z
SUMMARY:CHA Services
DESCRIPTION:Jewish Federation of Greater Naples\nCommunity Calendar\nhttps:
 //jewishnaples.org/calendar/calendar2061\n\n&nbsp
DTSTART;TZID=America/New_York:20150530T100000
DTEND;TZID=America/New_York:20150530T100000
END:VEVENT
END:VCALENDAR
