BEGIN:VCALENDAR
PRODID:-//eluceo/ical//2.0/EN
VERSION:2.0
CALSCALE:GREGORIAN
BEGIN:VEVENT
UID:c882f98c6f54a2c008069fd14dc9bcf6
DTSTAMP:20260423T235820Z
SUMMARY:CHA Services
DESCRIPTION:Jewish Federation of Greater Naples\nCommunity Calendar\nhttps:
 //jewishnaples.org/calendar/calendar2059\n\n&nbsp
DTSTART;TZID=America/New_York:20150606T100000
DTEND;TZID=America/New_York:20150606T100000
END:VEVENT
END:VCALENDAR
