BEGIN:VCALENDAR
PRODID:-//eluceo/ical//2.0/EN
VERSION:2.0
CALSCALE:GREGORIAN
BEGIN:VEVENT
UID:4ce8877697d9e6649a545c13250e31df
DTSTAMP:20260423T151808Z
SUMMARY:CHA Services
DESCRIPTION:Jewish Federation of Greater Naples\nCommunity Calendar\nhttps:
 //jewishnaples.org/calendar/calendar2057\n\n&nbsp
DTSTART;TZID=America/New_York:20150613T100000
DTEND;TZID=America/New_York:20150613T100000
END:VEVENT
END:VCALENDAR
