BEGIN:VCALENDAR
PRODID:-//eluceo/ical//2.0/EN
VERSION:2.0
CALSCALE:GREGORIAN
BEGIN:VEVENT
UID:89a543d7d469250499b4a6c15d31efb0
DTSTAMP:20260423T201313Z
SUMMARY:CHA Services
DESCRIPTION:Jewish Federation of Greater Naples\nCommunity Calendar\nhttps:
 //jewishnaples.org/calendar/calendar2054\n\n&nbsp
DTSTART;TZID=America/New_York:20150626T193000
DTEND;TZID=America/New_York:20150626T193000
END:VEVENT
END:VCALENDAR
