BEGIN:VCALENDAR
PRODID:-//eluceo/ical//2.0/EN
VERSION:2.0
CALSCALE:GREGORIAN
BEGIN:VEVENT
UID:cb9ad1c41a6efc45d27a5419f7793781
DTSTAMP:20260423T212738Z
SUMMARY:BT Youth Ed Program
DESCRIPTION:Jewish Federation of Greater Naples\nCommunity Calendar\nhttps:
 //jewishnaples.org/calendar/calendar2043\n\n&nbsp
DTSTART;TZID=America/New_York:20150506T163000
DTEND;TZID=America/New_York:20150506T163000
END:VEVENT
END:VCALENDAR
