BEGIN:VCALENDAR
PRODID:-//eluceo/ical//2.0/EN
VERSION:2.0
CALSCALE:GREGORIAN
BEGIN:VEVENT
UID:6d06d34a2d4cfe5de6691eec815aee3a
DTSTAMP:20260423T071702Z
SUMMARY:BT Youth Ed Program
DESCRIPTION:Jewish Federation of Greater Naples\nCommunity Calendar\nhttps:
 //jewishnaples.org/calendar/calendar2040\n\n&nbsp
DTSTART;TZID=America/New_York:20150527T163000
DTEND;TZID=America/New_York:20150527T163000
END:VEVENT
END:VCALENDAR
