BEGIN:VCALENDAR
PRODID:-//eluceo/ical//2.0/EN
VERSION:2.0
CALSCALE:GREGORIAN
BEGIN:VEVENT
UID:7470c12d49018a5fccac6644a477315c
DTSTAMP:20260423T222858Z
SUMMARY:BT Youth Ed Program
DESCRIPTION:Jewish Federation of Greater Naples\nCommunity Calendar\nhttps:
 //jewishnaples.org/calendar/calendar2038\n\n&nbsp
DTSTART;TZID=America/New_York:20150610T163000
DTEND;TZID=America/New_York:20150610T163000
END:VEVENT
END:VCALENDAR
