BEGIN:VCALENDAR
PRODID:-//eluceo/ical//2.0/EN
VERSION:2.0
CALSCALE:GREGORIAN
BEGIN:VEVENT
UID:6582ecb8612988a0ceb6846560712525
DTSTAMP:20260422T004403Z
SUMMARY:BT Svs
DESCRIPTION:Jewish Federation of Greater Naples\nCommunity Calendar\nhttps:
 //jewishnaples.org/calendar/calendar2034\n\n&nbsp
DTSTART;TZID=America/New_York:20150509T093000
DTEND;TZID=America/New_York:20150509T093000
END:VEVENT
END:VCALENDAR
