BEGIN:VCALENDAR
PRODID:-//eluceo/ical//2.0/EN
VERSION:2.0
CALSCALE:GREGORIAN
BEGIN:VEVENT
UID:090471ae43c8d3cecb64351111e2f96b
DTSTAMP:20260423T075326Z
SUMMARY:BT Svs
DESCRIPTION:Jewish Federation of Greater Naples\nCommunity Calendar\nhttps:
 //jewishnaples.org/calendar/calendar2029\n\n&nbsp
DTSTART;TZID=America/New_York:20150613T093000
DTEND;TZID=America/New_York:20150613T093000
END:VEVENT
END:VCALENDAR
