BEGIN:VCALENDAR
PRODID:-//eluceo/ical//2.0/EN
VERSION:2.0
CALSCALE:GREGORIAN
BEGIN:VEVENT
UID:816114d6fb78d1fa2f0a8dcf03a6a513
DTSTAMP:20260423T192922Z
SUMMARY:BT Svs
DESCRIPTION:Jewish Federation of Greater Naples\nCommunity Calendar\nhttps:
 //jewishnaples.org/calendar/calendar2027\n\n&nbsp
DTSTART;TZID=America/New_York:20150627T093000
DTEND;TZID=America/New_York:20150627T093000
END:VEVENT
END:VCALENDAR
