BEGIN:VCALENDAR
PRODID:-//eluceo/ical//2.0/EN
VERSION:2.0
CALSCALE:GREGORIAN
BEGIN:VEVENT
UID:d250b7cb2438f41313665124bb69a56f
DTSTAMP:20260423T075852Z
SUMMARY:BT Services
DESCRIPTION:Jewish Federation of Greater Naples\nCommunity Calendar\nhttps:
 //jewishnaples.org/calendar/calendar2025\n\nBeth Tikvah
DTSTART;TZID=America/New_York:20150508T181500
DTEND;TZID=America/New_York:20150508T181500
END:VEVENT
END:VCALENDAR
