BEGIN:VCALENDAR
PRODID:-//eluceo/ical//2.0/EN
VERSION:2.0
CALSCALE:GREGORIAN
BEGIN:VEVENT
UID:5ab650a5344654294315406ec35bb970
DTSTAMP:20260419T184653Z
SUMMARY:BT Rosh Chodesh
DESCRIPTION:Jewish Federation of Greater Naples\nCommunity Calendar\nhttps:
 //jewishnaples.org/calendar/calendar2017\n\n&nbsp
DTSTART;TZID=America/New_York:20150517T100000
DTEND;TZID=America/New_York:20150517T100000
END:VEVENT
END:VCALENDAR
