BEGIN:VCALENDAR
PRODID:-//eluceo/ical//2.0/EN
VERSION:2.0
CALSCALE:GREGORIAN
BEGIN:VEVENT
UID:a643cd29761f28bd8d29f8ef55e8e4d4
DTSTAMP:20260423T055843Z
SUMMARY:BT Book Group
DESCRIPTION:Jewish Federation of Greater Naples\nCommunity Calendar\nhttps:
 //jewishnaples.org/calendar/calendar2015\n\n&nbsp
DTSTART;TZID=America/New_York:20150525T193000
DTEND;TZID=America/New_York:20150525T193000
END:VEVENT
END:VCALENDAR
