BEGIN:VCALENDAR
PRODID:-//eluceo/ical//2.0/EN
VERSION:2.0
CALSCALE:GREGORIAN
BEGIN:VEVENT
UID:12e43ac8507e9fe324926e3c66fa8ec4
DTSTAMP:20260424T055913Z
SUMMARY:BT Board Mtg
DESCRIPTION:Jewish Federation of Greater Naples\nCommunity Calendar\nhttps:
 //jewishnaples.org/calendar/calendar2013\n\n&nbsp
DTSTART;TZID=America/New_York:20150521T160000
DTEND;TZID=America/New_York:20150521T160000
END:VEVENT
END:VCALENDAR
