BEGIN:VCALENDAR
PRODID:-//eluceo/ical//2.0/EN
VERSION:2.0
CALSCALE:GREGORIAN
BEGIN:VEVENT
UID:27531117f5b592ddc5b8be02d08ea353
DTSTAMP:20260424T014320Z
SUMMARY:BT Adult Ed
DESCRIPTION:Jewish Federation of Greater Naples\nCommunity Calendar\nhttps:
 //jewishnaples.org/calendar/calendar2011\n\nJewish Perspectives
DTSTART;TZID=America/New_York:20150505T121500
DTEND;TZID=America/New_York:20150505T121500
END:VEVENT
END:VCALENDAR
