BEGIN:VCALENDAR
PRODID:-//eluceo/ical//2.0/EN
VERSION:2.0
CALSCALE:GREGORIAN
BEGIN:VEVENT
UID:7857905fbe7aab87d3eb63dcf02aff5c
DTSTAMP:20260424T014229Z
SUMMARY:BT Adult Ed
DESCRIPTION:Jewish Federation of Greater Naples\nCommunity Calendar\nhttps:
 //jewishnaples.org/calendar/calendar2002\n\nJewish Perspectives
DTSTART;TZID=America/New_York:20150623T121500
DTEND;TZID=America/New_York:20150623T121500
END:VEVENT
END:VCALENDAR
