BEGIN:VCALENDAR
PRODID:-//eluceo/ical//2.0/EN
VERSION:2.0
CALSCALE:GREGORIAN
BEGIN:VEVENT
UID:bdb0d24184d25b0c61c3c809509c49ab
DTSTAMP:20260424T020849Z
SUMMARY:HM GenShoah One Comm One Book
DESCRIPTION:Jewish Federation of Greater Naples\nCommunity Calendar\nhttps:
 //jewishnaples.org/calendar/calendar2\n\nBook Discussion\nGertruda?s Oath
DTSTART;TZID=America/New_York:20141013T190000
DTEND;TZID=America/New_York:20141013T190000
END:VEVENT
END:VCALENDAR
