BEGIN:VCALENDAR
PRODID:-//eluceo/ical//2.0/EN
VERSION:2.0
CALSCALE:GREGORIAN
BEGIN:VEVENT
UID:70a999fd3187ceef06a571d32dc38347
DTSTAMP:20260419T205841Z
SUMMARY:BT Youth Education
DESCRIPTION:Jewish Federation of Greater Naples\nCommunity Calendar\nhttps:
 //jewishnaples.org/calendar/calendar196\n\n&nbsp
DTSTART;TZID=America/New_York:20150412T090000
DTEND;TZID=America/New_York:20150412T090000
END:VEVENT
END:VCALENDAR
