BEGIN:VCALENDAR
PRODID:-//eluceo/ical//2.0/EN
VERSION:2.0
CALSCALE:GREGORIAN
BEGIN:VEVENT
UID:46abeb05ab8d7579fb421ccf94aa1946
DTSTAMP:20260420T121117Z
SUMMARY:BT Youth Education
DESCRIPTION:Jewish Federation of Greater Naples\nCommunity Calendar\nhttps:
 //jewishnaples.org/calendar/calendar195\n\n&nbsp
DTSTART;TZID=America/New_York:20150405T090000
DTEND;TZID=America/New_York:20150405T090000
END:VEVENT
END:VCALENDAR
