BEGIN:VCALENDAR
PRODID:-//eluceo/ical//2.0/EN
VERSION:2.0
CALSCALE:GREGORIAN
BEGIN:VEVENT
UID:97ab464bd3eba953f47a0c832790f902
DTSTAMP:20260422T171224Z
SUMMARY:BT Youth Education
DESCRIPTION:Jewish Federation of Greater Naples\nCommunity Calendar\nhttps:
 //jewishnaples.org/calendar/calendar194\n\n&nbsp
DTSTART;TZID=America/New_York:20150329T090000
DTEND;TZID=America/New_York:20150329T090000
END:VEVENT
END:VCALENDAR
