BEGIN:VCALENDAR
PRODID:-//eluceo/ical//2.0/EN
VERSION:2.0
CALSCALE:GREGORIAN
BEGIN:VEVENT
UID:5f2dc18ee84f18b212bdfb72a8adcf41
DTSTAMP:20260423T114317Z
SUMMARY:BT Youth Education
DESCRIPTION:Jewish Federation of Greater Naples\nCommunity Calendar\nhttps:
 //jewishnaples.org/calendar/calendar186\n\n&nbsp
DTSTART;TZID=America/New_York:20150201T090000
DTEND;TZID=America/New_York:20150201T090000
END:VEVENT
END:VCALENDAR
