BEGIN:VCALENDAR
PRODID:-//eluceo/ical//2.0/EN
VERSION:2.0
CALSCALE:GREGORIAN
BEGIN:VEVENT
UID:7150e0bbe3e3e02c114b4b5f6909ba20
DTSTAMP:20260424T033959Z
SUMMARY:TS Services
DESCRIPTION:Jewish Federation of Greater Naples\nCommunity Calendar\nhttps:
 //jewishnaples.org/calendar/calendar17676\n\nTS Services
DTSTART;TZID=America/New_York:20160701T193000
DTEND;TZID=America/New_York:20160701T193000
END:VEVENT
END:VCALENDAR
