BEGIN:VCALENDAR
PRODID:-//eluceo/ical//2.0/EN
VERSION:2.0
CALSCALE:GREGORIAN
BEGIN:VEVENT
UID:acb0e7655bc9ade33df942fded9beea2
DTSTAMP:20260423T053821Z
SUMMARY:TS  Shir Joy Shabbat
DESCRIPTION:Jewish Federation of Greater Naples\nCommunity Calendar\nhttps:
 //jewishnaples.org/calendar/calendar17675\n\nTS  Shir Joy Shabbat
DTSTART;TZID=America/New_York:20160701T183000
DTEND;TZID=America/New_York:20160701T183000
END:VEVENT
END:VCALENDAR
