BEGIN:VCALENDAR
PRODID:-//eluceo/ical//2.0/EN
VERSION:2.0
CALSCALE:GREGORIAN
BEGIN:VEVENT
UID:36cbbc4eb2ae027daf6a820f30684869
DTSTAMP:20260424T050332Z
SUMMARY:JCMI  Bridge
DESCRIPTION:Jewish Federation of Greater Naples\nCommunity Calendar\nhttps:
 //jewishnaples.org/calendar/calendar17671\n\nJCMI  Bridge
DTSTART;TZID=America/New_York:20160629T130000
DTEND;TZID=America/New_York:20160629T130000
END:VEVENT
END:VCALENDAR
