BEGIN:VCALENDAR
PRODID:-//eluceo/ical//2.0/EN
VERSION:2.0
CALSCALE:GREGORIAN
BEGIN:VEVENT
UID:1c05db6bebb7afefb4314d497f29156e
DTSTAMP:20260423T175702Z
SUMMARY:BT Services
DESCRIPTION:Jewish Federation of Greater Naples\nCommunity Calendar\nhttps:
 //jewishnaples.org/calendar/calendar17666\n\nBT Services
DTSTART;TZID=America/New_York:20160625T093000
DTEND;TZID=America/New_York:20160625T093000
END:VEVENT
END:VCALENDAR
