BEGIN:VCALENDAR
PRODID:-//eluceo/ical//2.0/EN
VERSION:2.0
CALSCALE:GREGORIAN
BEGIN:VEVENT
UID:ff501b9644ba22747fcc538c06176a84
DTSTAMP:20260423T062231Z
SUMMARY:HDH Daytime Study Group - TS
DESCRIPTION:Jewish Federation of Greater Naples\nCommunity Calendar\nhttps:
 //jewishnaples.org/calendar/calendar17657\n\nHDH Daytime Study Group - TS
DTSTART;TZID=America/New_York:20160620T130000
DTEND;TZID=America/New_York:20160620T130000
END:VEVENT
END:VCALENDAR
