BEGIN:VCALENDAR
PRODID:-//eluceo/ical//2.0/EN
VERSION:2.0
CALSCALE:GREGORIAN
BEGIN:VEVENT
UID:9a9481311f154b6dbc93a4bacad0bd8b
DTSTAMP:20260422T102325Z
SUMMARY:TS Services
DESCRIPTION:Jewish Federation of Greater Naples\nCommunity Calendar\nhttps:
 //jewishnaples.org/calendar/calendar17655\n\nTS Services
DTSTART;TZID=America/New_York:20160618T100000
DTEND;TZID=America/New_York:20160618T100000
END:VEVENT
END:VCALENDAR
