BEGIN:VCALENDAR
PRODID:-//eluceo/ical//2.0/EN
VERSION:2.0
CALSCALE:GREGORIAN
BEGIN:VEVENT
UID:31c9150f84d092d7c589dcb329d0a290
DTSTAMP:20260424T050439Z
SUMMARY:JFCC Board Meeting
DESCRIPTION:Jewish Federation of Greater Naples\nCommunity Calendar\nhttps:
 //jewishnaples.org/calendar/calendar17646\n\nJFCC Board Meeting
DTSTART;TZID=America/New_York:20160614T193000
DTEND;TZID=America/New_York:20160614T193000
END:VEVENT
END:VCALENDAR
