BEGIN:VCALENDAR
PRODID:-//eluceo/ical//2.0/EN
VERSION:2.0
CALSCALE:GREGORIAN
BEGIN:VEVENT
UID:bfd0b69b04a63d7eae82c64376fec8e5
DTSTAMP:20260422T081338Z
SUMMARY:CHA  Shavuot Services
DESCRIPTION:Jewish Federation of Greater Naples\nCommunity Calendar\nhttps:
 //jewishnaples.org/calendar/calendar17644\n\nCHA  Shavuot Services
DTSTART;TZID=America/New_York:20160613T100000
DTEND;TZID=America/New_York:20160613T100000
END:VEVENT
END:VCALENDAR
