BEGIN:VCALENDAR
PRODID:-//eluceo/ical//2.0/EN
VERSION:2.0
CALSCALE:GREGORIAN
BEGIN:VEVENT
UID:75b607c966713c511434e699acf9157d
DTSTAMP:20260424T010922Z
SUMMARY:CHA  Shavuot Services
DESCRIPTION:Jewish Federation of Greater Naples\nCommunity Calendar\nhttps:
 //jewishnaples.org/calendar/calendar17641\n\nCHA  Shavuot Services
DTSTART;TZID=America/New_York:20160612T100000
DTEND;TZID=America/New_York:20160612T100000
END:VEVENT
END:VCALENDAR
