BEGIN:VCALENDAR
PRODID:-//eluceo/ical//2.0/EN
VERSION:2.0
CALSCALE:GREGORIAN
BEGIN:VEVENT
UID:cfe1e9d4972bcbc68f7ac2da9327645c
DTSTAMP:20260424T013057Z
SUMMARY:BT  Rabbi's Study Course
DESCRIPTION:Jewish Federation of Greater Naples\nCommunity Calendar\nhttps:
 //jewishnaples.org/calendar/calendar17626\n\nBT  Rabbi's Study Course
DTSTART;TZID=America/New_York:20160607T121500
DTEND;TZID=America/New_York:20160607T121500
END:VEVENT
END:VCALENDAR
