BEGIN:VCALENDAR
PRODID:-//eluceo/ical//2.0/EN
VERSION:2.0
CALSCALE:GREGORIAN
BEGIN:VEVENT
UID:cd7d99d229b11331f3df4a220a2d30a9
DTSTAMP:20260423T130659Z
SUMMARY:TS  Confirmation
DESCRIPTION:Jewish Federation of Greater Naples\nCommunity Calendar\nhttps:
 //jewishnaples.org/calendar/calendar17619\n\nTS  Confirmation
DTSTART;TZID=America/New_York:20160605T100000
DTEND;TZID=America/New_York:20160605T100000
END:VEVENT
END:VCALENDAR
