BEGIN:VCALENDAR
PRODID:-//eluceo/ical//2.0/EN
VERSION:2.0
CALSCALE:GREGORIAN
BEGIN:VEVENT
UID:9f51b44a97d108a051b6f9966bf80e4e
DTSTAMP:20260424T110057Z
SUMMARY:Yom Yerushalayim
DESCRIPTION:Jewish Federation of Greater Naples\nCommunity Calendar\nhttps:
 //jewishnaples.org/calendar/calendar17618\n\nYom Yerushalayim
DTSTART;TZID=America/New_York:20160605T000000
DTEND;TZID=America/New_York:20160606T000000
END:VEVENT
END:VCALENDAR
