BEGIN:VCALENDAR
PRODID:-//eluceo/ical//2.0/EN
VERSION:2.0
CALSCALE:GREGORIAN
BEGIN:VEVENT
UID:caf62d78a27d7dd570c9d87ef384883f
DTSTAMP:20260423T125404Z
SUMMARY:BT Services
DESCRIPTION:Jewish Federation of Greater Naples\nCommunity Calendar\nhttps:
 //jewishnaples.org/calendar/calendar17615\n\nBT Services
DTSTART;TZID=America/New_York:20160604T093000
DTEND;TZID=America/New_York:20160604T093000
END:VEVENT
END:VCALENDAR
