BEGIN:VCALENDAR
PRODID:-//eluceo/ical//2.0/EN
VERSION:2.0
CALSCALE:GREGORIAN
BEGIN:VEVENT
UID:e0aa3ffd5fd95e13c93fb53c94962195
DTSTAMP:20260424T033840Z
SUMMARY:TS  Shir Joy Shabbat
DESCRIPTION:Jewish Federation of Greater Naples\nCommunity Calendar\nhttps:
 //jewishnaples.org/calendar/calendar17611\n\nTS  Shir Joy Shabbat
DTSTART;TZID=America/New_York:20160603T183000
DTEND;TZID=America/New_York:20160603T183000
END:VEVENT
END:VCALENDAR
