BEGIN:VCALENDAR
PRODID:-//eluceo/ical//2.0/EN
VERSION:2.0
CALSCALE:GREGORIAN
BEGIN:VEVENT
UID:4721b4ccbc38c04ca20665656da9658c
DTSTAMP:20260422T092551Z
SUMMARY:JCMI  Bridge
DESCRIPTION:Jewish Federation of Greater Naples\nCommunity Calendar\nhttps:
 //jewishnaples.org/calendar/calendar17607\n\nJCMI  Bridge
DTSTART;TZID=America/New_York:20160601T130000
DTEND;TZID=America/New_York:20160601T130000
END:VEVENT
END:VCALENDAR
