BEGIN:VCALENDAR
PRODID:-//eluceo/ical//2.0/EN
VERSION:2.0
CALSCALE:GREGORIAN
BEGIN:VEVENT
UID:32c06803fe18cf1303f1966ff65ff851
DTSTAMP:20260421T140854Z
SUMMARY:JCMI  Services
DESCRIPTION:Jewish Federation of Greater Naples\nCommunity Calendar\nhttps:
 //jewishnaples.org/calendar/calendar17596\n\nJCMI  Services
DTSTART;TZID=America/New_York:20160527T200000
DTEND;TZID=America/New_York:20160527T200000
END:VEVENT
END:VCALENDAR
