BEGIN:VCALENDAR
PRODID:-//eluceo/ical//2.0/EN
VERSION:2.0
CALSCALE:GREGORIAN
BEGIN:VEVENT
UID:a6c5013dc082251dfd75d7c53246c600
DTSTAMP:20260423T021557Z
SUMMARY:BBYO  Youth Activity
DESCRIPTION:Jewish Federation of Greater Naples\nCommunity Calendar\nhttps:
 //jewishnaples.org/calendar/calendar17590\n\nBBYO  Youth Activity
DTSTART;TZID=America/New_York:20160526T180000
DTEND;TZID=America/New_York:20160526T180000
END:VEVENT
END:VCALENDAR
