BEGIN:VCALENDAR
PRODID:-//eluceo/ical//2.0/EN
VERSION:2.0
CALSCALE:GREGORIAN
BEGIN:VEVENT
UID:6fb714f3733ad3f9a1c3a489096f840b
DTSTAMP:20260422T024417Z
SUMMARY:HM Board Meeting
DESCRIPTION:Jewish Federation of Greater Naples\nCommunity Calendar\nhttps:
 //jewishnaples.org/calendar/calendar17588\n\nHM Board Meeting
DTSTART;TZID=America/New_York:20160526T150000
DTEND;TZID=America/New_York:20160526T150000
END:VEVENT
END:VCALENDAR
