BEGIN:VCALENDAR
PRODID:-//eluceo/ical//2.0/EN
VERSION:2.0
CALSCALE:GREGORIAN
BEGIN:VEVENT
UID:f496c221365ec88d32b3c44428f7e700
DTSTAMP:20260422T225023Z
SUMMARY:BT  Rabbi's Study Course
DESCRIPTION:Jewish Federation of Greater Naples\nCommunity Calendar\nhttps:
 //jewishnaples.org/calendar/calendar17585\n\nBT  Rabbi's Study Course
DTSTART;TZID=America/New_York:20160525T193000
DTEND;TZID=America/New_York:20160525T193000
END:VEVENT
END:VCALENDAR
