BEGIN:VCALENDAR
PRODID:-//eluceo/ical//2.0/EN
VERSION:2.0
CALSCALE:GREGORIAN
BEGIN:VEVENT
UID:cbc7c76bedced541af050c51522617ba
DTSTAMP:20260423T023546Z
SUMMARY:CHA  Last Day Hebrew School
DESCRIPTION:Jewish Federation of Greater Naples\nCommunity Calendar\nhttps:
 //jewishnaples.org/calendar/calendar17584\n\nCHA  Last Day Hebrew School
DTSTART;TZID=America/New_York:20160525T163000
DTEND;TZID=America/New_York:20160525T163000
END:VEVENT
END:VCALENDAR
